BEGIN:VCALENDAR
VERSION:2.0
PRODID:-//Squarespace Inc/Squarespace 6//v6//EN
BEGIN:VEVENT
UID:60f591e3616ef70f5bb00a71@squarespace.com
DTSTAMP:20210719T145516Z
DTSTART:20211001T030000Z
DTEND:20211001T040000Z
SUMMARY:The Comedy Attic
END:VEVENT
END:VCALENDAR
