BEGIN:VCALENDAR
VERSION:2.0
PRODID:-//Squarespace Inc/Squarespace 6//v6//EN
BEGIN:VEVENT
UID:60f59254f69e8848428e886c@squarespace.com
DTSTAMP:20210719T145604Z
DTSTART:20211002T020000Z
DTEND:20211002T030000Z
SUMMARY:The Comedy Attic
END:VEVENT
END:VCALENDAR
