BEGIN:VCALENDAR
VERSION:2.0
PRODID:-//Squarespace Inc/Squarespace 6//v6//EN
BEGIN:VEVENT
UID:60f592be0878dc2040bf7f0e@squarespace.com
DTSTAMP:20210719T145735Z
DTSTART:20211003T020000Z
DTEND:20211003T030000Z
SUMMARY:The Comedy Attic
END:VEVENT
END:VCALENDAR
