BEGIN:VCALENDAR
VERSION:2.0
PRODID:-//Squarespace Inc/Squarespace 6//v6//EN
BEGIN:VEVENT
UID:60f5928a1dfa362ba7a0f506@squarespace.com
DTSTAMP:20210719T145654Z
DTSTART:20211002T043000Z
DTEND:20211002T053000Z
SUMMARY:The Comedy Attic
END:VEVENT
END:VCALENDAR
