BEGIN:VCALENDAR
VERSION:2.0
PRODID:-//Squarespace Inc/Squarespace 6//v6//EN
BEGIN:VEVENT
UID:60f592e4609e44193cd8ec6e@squarespace.com
DTSTAMP:20210719T145825Z
DTSTART:20211003T043000Z
DTEND:20211003T053000Z
SUMMARY:The Comedy Attic
END:VEVENT
END:VCALENDAR
