BEGIN:VCALENDAR
VERSION:2.0
PRODID:-//Squarespace Inc/Squarespace 6//v6//EN
BEGIN:VEVENT
UID:584e3320b8a79bf389eb3f81@squarespace.com
DTSTAMP:20161213T203344Z
DTSTART:20170409T030000Z
DTEND:20170409T050000Z
SUMMARY:Paramount Theatre
GEO:39.739236;-104.990251
LOCATION:Denver\, CO
END:VEVENT
END:VCALENDAR
