BEGIN:VCALENDAR
VERSION:2.0
PRODID:-//Squarespace Inc/Squarespace 6//v6//EN
BEGIN:VEVENT
UID:584e3260b3db2b3cd0e26e19@squarespace.com
DTSTAMP:20161213T203255Z
DTSTART:20170401T030000Z
DTEND:20170401T050000Z
SUMMARY:Paramount Theatre
GEO:40.720756;-74.000761
LOCATION:Austin\, TX
END:VEVENT
END:VCALENDAR
