BEGIN:VCALENDAR
VERSION:2.0
PRODID:-//Squarespace Inc/Squarespace 6//v6//EN
BEGIN:VEVENT
UID:61e888b8a397bb699d1e4e1d@squarespace.com
DTSTAMP:20220119T220104Z
DTSTART:20220423T020000Z
DTEND:20220423T030000Z
SUMMARY:Paramount Theatre / Moontower Comedy Festival
END:VEVENT
END:VCALENDAR
