BEGIN:VCALENDAR
VERSION:2.0
PRODID:-//Squarespace Inc/Squarespace 6//v6//EN
BEGIN:VEVENT
UID:5cab97c3a4222f76a4c958d5@squarespace.com
DTSTAMP:20190408T185019Z
DTSTART:20190824T023000Z
DTEND:20190824T033000Z
SUMMARY:Paramount Theatre
END:VEVENT
END:VCALENDAR
