BEGIN:VCALENDAR
VERSION:2.0
PRODID:-//Squarespace Inc/Squarespace 6//v6//EN
BEGIN:VEVENT
UID:584e353859cc6892ae13f5d3@squarespace.com
DTSTAMP:20170402T234943Z
DTSTART:20170430T020000Z
DTEND:20170430T040000Z
SUMMARY:Pantages Theatre
GEO:44.977753;-93.265011
LOCATION:Minneapolis\, MN
END:VEVENT
END:VCALENDAR
