BEGIN:VCALENDAR
VERSION:2.0
PRODID:-//Squarespace Inc/Squarespace 6//v6//EN
BEGIN:VEVENT
UID:61a50b9864caf5369943114b@squarespace.com
DTSTAMP:20211129T172029Z
DTSTART:20220501T020000Z
DTEND:20220501T030000Z
SUMMARY:Pantages Theatre
END:VEVENT
END:VCALENDAR
