BEGIN:VCALENDAR
VERSION:2.0
PRODID:-//Squarespace Inc/Squarespace 6//v6//EN
BEGIN:VEVENT
UID:5cab9a4b4e17b653e4b153e2@squarespace.com
DTSTAMP:20190408T190109Z
DTSTART:20190923T023000Z
DTEND:20190923T033000Z
SUMMARY:Pantages Theatre
END:VEVENT
END:VCALENDAR
