BEGIN:VCALENDAR
VERSION:2.0
PRODID:-//Squarespace Inc/Squarespace 6//v6//EN
BEGIN:VEVENT
UID:585381a7be6594f446b0b3e6@squarespace.com
DTSTAMP:20161216T055640Z
DTSTART:20170430T050000Z
DTEND:20170504T063000Z
SUMMARY:Pantages Theatre (Late Show)
GEO:40.720756;-74.000761
LOCATION:Minneapolis\, MN
END:VEVENT
END:VCALENDAR
