BEGIN:VCALENDAR
VERSION:2.0
PRODID:-//Squarespace Inc/Squarespace 6//v6//EN
BEGIN:VEVENT
UID:61a5040cdc01b8449460781c@squarespace.com
DTSTAMP:20220126T223740Z
DTSTART:20220220T030000Z
DTEND:20220220T040000Z
SUMMARY:Palace of Fine Arts
END:VEVENT
END:VCALENDAR
