BEGIN:VCALENDAR
VERSION:2.0
PRODID:-//Squarespace Inc/Squarespace 6//v6//EN
BEGIN:VEVENT
UID:61afe49b6f6a060a832ca7ed@squarespace.com
DTSTAMP:20220126T223758Z
DTSTART:20220220T053000Z
DTEND:20220220T063000Z
SUMMARY:Palace of Fine Arts
END:VEVENT
END:VCALENDAR
