BEGIN:VCALENDAR
VERSION:2.0
PRODID:-//Squarespace Inc/Squarespace 6//v6//EN
BEGIN:VEVENT
UID:61a504ff1898562e2202f9e7@squarespace.com
DTSTAMP:20220126T223837Z
DTSTART:20220219T040000Z
DTEND:20220219T050000Z
SUMMARY:Uptown
END:VEVENT
END:VCALENDAR
