BEGIN:VCALENDAR
VERSION:2.0
PRODID:-//Squarespace Inc/Squarespace 6//v6//EN
BEGIN:VEVENT
UID:584e3443197aea0e291126e1@squarespace.com
DTSTAMP:20161213T203500Z
DTSTART:20170428T030000Z
DTEND:20170428T050000Z
SUMMARY:Pabst Theater
GEO:43.038902;-87.906474
LOCATION:Milwaukee\, WI
END:VEVENT
END:VCALENDAR
