BEGIN:VCALENDAR
VERSION:2.0
PRODID:-//Squarespace Inc/Squarespace 6//v6//EN
BEGIN:VEVENT
UID:584e2e9e9f7456bbff5b2b9c@squarespace.com
DTSTAMP:20161213T203123Z
DTSTART:20170305T033000Z
DTEND:20170305T063000Z
SUMMARY:Olympia de Montreal
GEO:45.501689;-73.567256
LOCATION:MONTREAL\, CANADA
END:VEVENT
END:VCALENDAR
