BEGIN:VCALENDAR
VERSION:2.0
PRODID:-//Squarespace Inc/Squarespace 6//v6//EN
BEGIN:VEVENT
UID:61a505ae65f99c7761b071ff@squarespace.com
DTSTAMP:20211129T165559Z
DTSTART:20220212T023000Z
DTEND:20220212T033000Z
SUMMARY:Observatory North Park
END:VEVENT
END:VCALENDAR
