BEGIN:VCALENDAR
VERSION:2.0
PRODID:-//Squarespace Inc/Squarespace 6//v6//EN
BEGIN:VEVENT
UID:61b2430b8130792df160f429@squarespace.com
DTSTAMP:20211209T175911Z
DTSTART:20220212T051500Z
DTEND:20220212T061500Z
SUMMARY:Observatory North Park
END:VEVENT
END:VCALENDAR
