BEGIN:VCALENDAR
VERSION:2.0
PRODID:-//Squarespace Inc/Squarespace 6//v6//EN
BEGIN:VEVENT
UID:5b8d82948a922d7beea7d819@squarespace.com
DTSTAMP:20180903T185316Z
DTSTART:20181111T033000Z
DTEND:20181111T043000Z
SUMMARY:NY Comedy Festival
GEO:40.712775;-74.005973
LOCATION:NEW YORK\, NY
END:VEVENT
END:VCALENDAR
