BEGIN:VCALENDAR
VERSION:2.0
PRODID:-//Squarespace Inc/Squarespace 6//v6//EN
BEGIN:VEVENT
UID:57dad627579fb3865d061029@squarespace.com
DTSTAMP:20160915T171333Z
DTSTART:20161030T000000Z
DTEND:20161030T010000Z
SUMMARY:Now Hear This Festival
GEO:40.720756;-74.000761
LOCATION:Anaheim\, CA
END:VEVENT
END:VCALENDAR
