BEGIN:VCALENDAR
VERSION:2.0
PRODID:-//Squarespace Inc/Squarespace 6//v6//EN
BEGIN:VEVENT
UID:611d95b1538e06453a21dee9@squarespace.com
DTSTAMP:20211214T215517Z
DTSTART:20211114T030000Z
DTEND:20211114T040000Z
SUMMARY:New York Comedy Festival - Town Hall
END:VEVENT
END:VCALENDAR
