BEGIN:VCALENDAR
VERSION:2.0
PRODID:-//Squarespace Inc/Squarespace 6//v6//EN
BEGIN:VEVENT
UID:61a50cf48e3e2852ff4d047b@squarespace.com
DTSTAMP:20211129T172619Z
DTSTART:20220515T010000Z
DTEND:20220515T020000Z
SUMMARY:Music Theatre
END:VEVENT
END:VCALENDAR
