BEGIN:VCALENDAR
VERSION:2.0
PRODID:-//Squarespace Inc/Squarespace 6//v6//EN
BEGIN:VEVENT
UID:61a506caea88e3698823b533@squarespace.com
DTSTAMP:20211129T174623Z
DTSTART:20220311T033000Z
DTEND:20220311T043000Z
SUMMARY:Music Hall
END:VEVENT
END:VCALENDAR
