BEGIN:VCALENDAR
VERSION:2.0
PRODID:-//Squarespace Inc/Squarespace 6//v6//EN
BEGIN:VEVENT
UID:5cab98a415fcc0efd2216f05@squarespace.com
DTSTAMP:20190408T185406Z
DTSTART:20190908T023000Z
DTEND:20190908T033000Z
SUMMARY:Moore Theatre
END:VEVENT
END:VCALENDAR
