BEGIN:VCALENDAR
VERSION:2.0
PRODID:-//Squarespace Inc/Squarespace 6//v6//EN
BEGIN:VEVENT
UID:584e317715d5dbc7c8b58cfa@squarespace.com
DTSTAMP:20161213T203220Z
DTSTART:20170326T030000Z
DTEND:20170326T050000Z
SUMMARY:Moore Theater
GEO:47.606209;-122.332071
LOCATION:Seattle\, WA
END:VEVENT
END:VCALENDAR
