BEGIN:VCALENDAR
VERSION:2.0
PRODID:-//Squarespace Inc/Squarespace 6//v6//EN
BEGIN:VEVENT
UID:61a50ca4cecad912604dcb13@squarespace.com
DTSTAMP:20211129T172456Z
DTSTART:20220514T020000Z
DTEND:20220514T030000Z
SUMMARY:Mimi Ohio Theatre
END:VEVENT
END:VCALENDAR
