BEGIN:VCALENDAR
VERSION:2.0
PRODID:-//Squarespace Inc/Squarespace 6//v6//EN
BEGIN:VEVENT
UID:584e35d03e00bea8730e4662@squarespace.com
DTSTAMP:20161213T203616Z
DTSTART:20170513T030000Z
DTEND:20170513T050000Z
SUMMARY:Merriam Theater
GEO:39.952584;-75.165222
LOCATION:Philadelphia\, PA
END:VEVENT
END:VCALENDAR
