BEGIN:VCALENDAR
VERSION:2.0
PRODID:-//Squarespace Inc/Squarespace 6//v6//EN
BEGIN:VEVENT
UID:5cab9a8cf4e1fcb89d33fd3d@squarespace.com
DTSTAMP:20190408T190238Z
DTSTART:20191011T023000Z
DTEND:20191011T033000Z
SUMMARY:Merriam Theater
END:VEVENT
END:VCALENDAR
