BEGIN:VCALENDAR
VERSION:2.0
PRODID:-//Squarespace Inc/Squarespace 6//v6//EN
BEGIN:VEVENT
UID:5cab99a7f9619af7790fd4ff@squarespace.com
DTSTAMP:20190408T190011Z
DTSTART:20190922T023000Z
DTEND:20190922T033000Z
SUMMARY:Masonic Temple
END:VEVENT
END:VCALENDAR
