BEGIN:VCALENDAR
VERSION:2.0
PRODID:-//Squarespace Inc/Squarespace 6//v6//EN
BEGIN:VEVENT
UID:5cab976deea77e00013bc1a7@squarespace.com
DTSTAMP:20190408T184921Z
DTSTART:20190823T023000Z
DTEND:20190823T033000Z
SUMMARY:Majestic Theatre
END:VEVENT
END:VCALENDAR
