BEGIN:VCALENDAR
VERSION:2.0
PRODID:-//Squarespace Inc/Squarespace 6//v6//EN
BEGIN:VEVENT
UID:61a5012e39c80d10d8451a06@squarespace.com
DTSTAMP:20220126T223606Z
DTSTART:20220307T033000Z
DTEND:20220307T043000Z
SUMMARY:Lobero
END:VEVENT
END:VCALENDAR
