BEGIN:VCALENDAR
VERSION:2.0
PRODID:-//Squarespace Inc/Squarespace 6//v6//EN
BEGIN:VEVENT
UID:61a503a4e9b232330198590a@squarespace.com
DTSTAMP:20220126T223704Z
DTSTART:20220306T030000Z
DTEND:20220306T040000Z
SUMMARY:Fremont
END:VEVENT
END:VCALENDAR
