BEGIN:VCALENDAR
VERSION:2.0
PRODID:-//Squarespace Inc/Squarespace 6//v6//EN
BEGIN:VEVENT
UID:57ccc8f8bebafb56980a9d5e@squarespace.com
DTSTAMP:20160905T012413Z
DTSTART:20161023T033000Z
DTEND:20161023T053000Z
SUMMARY:Largo
GEO:34.052234;-118.243685
LOCATION:Los Angeles\, CA
END:VEVENT
END:VCALENDAR
