BEGIN:VCALENDAR
VERSION:2.0
PRODID:-//Squarespace Inc/Squarespace 6//v6//EN
BEGIN:VEVENT
UID:61b912c59fe7693ba337250e@squarespace.com
DTSTAMP:20211214T215633Z
DTSTART:20211222T043000Z
DTEND:20211222T053000Z
SUMMARY:Largo
END:VEVENT
END:VCALENDAR
