BEGIN:VCALENDAR
VERSION:2.0
PRODID:-//Squarespace Inc/Squarespace 6//v6//EN
BEGIN:VEVENT
UID:6116b089c6e3725a99f65518@squarespace.com
DTSTAMP:20210813T174954Z
DTSTART:20210827T033000Z
DTEND:20210827T043000Z
SUMMARY:Largo at the Coronet
END:VEVENT
END:VCALENDAR
