BEGIN:VCALENDAR
VERSION:2.0
PRODID:-//Squarespace Inc/Squarespace 6//v6//EN
BEGIN:VEVENT
UID:620acebfe75f312025cca642@squarespace.com
DTSTAMP:20220214T215422Z
DTSTART:20220304T043000Z
DTEND:20220304T053000Z
SUMMARY:Largo
END:VEVENT
END:VCALENDAR
