BEGIN:VCALENDAR
VERSION:2.0
PRODID:-//Squarespace Inc/Squarespace 6//v6//EN
BEGIN:VEVENT
UID:6144c2a2f044fe518a3633c9@squarespace.com
DTSTAMP:20210928T235503Z
DTSTART:20210929T033000Z
DTEND:20210929T043000Z
SUMMARY:Largo
END:VEVENT
END:VCALENDAR
