BEGIN:VCALENDAR
VERSION:2.0
PRODID:-//Squarespace Inc/Squarespace 6//v6//EN
BEGIN:VEVENT
UID:57924effc534a57b27009c6c@squarespace.com
DTSTAMP:20160901T211807Z
DTSTART:20170219T040000Z
DTEND:20170219T060000Z
SUMMARY:Knight Theater
GEO:35.227087;-80.843127
LOCATION:Charlotte\, NC
END:VEVENT
END:VCALENDAR
