BEGIN:VCALENDAR
VERSION:2.0
PRODID:-//Squarespace Inc/Squarespace 6//v6//EN
BEGIN:VEVENT
UID:61a50ed1ea88e3698826cbe2@squarespace.com
DTSTAMP:20211129T173410Z
DTSTART:20220619T020000Z
DTEND:20220619T030000Z
SUMMARY:Knight Theater @ Blumenthal
END:VEVENT
END:VCALENDAR
