BEGIN:VCALENDAR
VERSION:2.0
PRODID:-//Squarespace Inc/Squarespace 6//v6//EN
BEGIN:VEVENT
UID:61a50e1cbadcac6c942dc07a@squarespace.com
DTSTAMP:20211129T173112Z
DTSTART:20220523T023000Z
DTEND:20220523T033000Z
SUMMARY:Keswick
END:VEVENT
END:VCALENDAR
