BEGIN:VCALENDAR
VERSION:2.0
PRODID:-//Squarespace Inc/Squarespace 6//v6//EN
BEGIN:VEVENT
UID:61a50d4883929d5bc5eda232@squarespace.com
DTSTAMP:20211129T172736Z
DTSTART:20220521T030000Z
DTEND:20220521T040000Z
SUMMARY:Kennedy Center
END:VEVENT
END:VCALENDAR
