BEGIN:VCALENDAR
VERSION:2.0
PRODID:-//Squarespace Inc/Squarespace 6//v6//EN
BEGIN:VEVENT
UID:5b3527ea8a922d62fcf4873a@squarespace.com
DTSTAMP:20180716T043726Z
DTSTART:20180721T030000Z
DTEND:20180721T040000Z
SUMMARY:The Ice House
GEO:40.720756;-74.000761
LOCATION:Pasadena\, CA
END:VEVENT
END:VCALENDAR
