BEGIN:VCALENDAR
VERSION:2.0
PRODID:-//Squarespace Inc/Squarespace 6//v6//EN
BEGIN:VEVENT
UID:5d0127a7444aa800013bf777@squarespace.com
DTSTAMP:20190612T162725Z
DTSTART:20190727T043000Z
DTEND:20190727T053000Z
SUMMARY:Just For Laughs
END:VEVENT
END:VCALENDAR
