BEGIN:VCALENDAR
VERSION:2.0
PRODID:-//Squarespace Inc/Squarespace 6//v6//EN
BEGIN:VEVENT
UID:5cf7f8e08554320001697cb5@squarespace.com
DTSTAMP:20190605T172125Z
DTSTART:20190920T020000Z
DTEND:20190920T030000Z
SUMMARY:JFL42
END:VEVENT
END:VCALENDAR
