BEGIN:VCALENDAR
VERSION:2.0
PRODID:-//Squarespace Inc/Squarespace 6//v6//EN
BEGIN:VEVENT
UID:57924f903e00be1777432600@squarespace.com
DTSTAMP:20160722T170512Z
DTSTART:20161120T033000Z
DTEND:20161120T053000Z
SUMMARY:James K. Polk Theater
GEO:40.720756;-74.000761
LOCATION:Nashville\, TN
END:VEVENT
END:VCALENDAR
