BEGIN:VCALENDAR
VERSION:2.0
PRODID:-//Squarespace Inc/Squarespace 6//v6//EN
BEGIN:VEVENT
UID:5cab9b7aa4222f76a4c98d3e@squarespace.com
DTSTAMP:20190408T190616Z
DTSTART:20191019T023000Z
DTEND:20191019T033000Z
SUMMARY:James K. Polk Theater
END:VEVENT
END:VCALENDAR
