BEGIN:VCALENDAR
VERSION:2.0
PRODID:-//Squarespace Inc/Squarespace 6//v6//EN
BEGIN:VEVENT
UID:60a863d4ba05500910bd28c4@squarespace.com
DTSTAMP:20210522T015434Z
DTSTART:20210917T030000Z
DTEND:20210917T040000Z
SUMMARY:Helium
END:VEVENT
END:VCALENDAR
