BEGIN:VCALENDAR
VERSION:2.0
PRODID:-//Squarespace Inc/Squarespace 6//v6//EN
BEGIN:VEVENT
UID:60a864453675cd0d7dbadd5f@squarespace.com
DTSTAMP:20210522T015620Z
DTSTART:20210918T023000Z
DTEND:20210918T033000Z
SUMMARY:Helium
END:VEVENT
END:VCALENDAR
